BEGIN:VCALENDAR
VERSION:2.0
PRODID:-//BA.I.by Doll - ECPv6.6.3//NONSGML v1.0//EN
CALSCALE:GREGORIAN
METHOD:PUBLISH
X-ORIGINAL-URL:https://baibydoll.com
X-WR-CALDESC:Events for BA.I.by Doll
REFRESH-INTERVAL;VALUE=DURATION:PT1H
X-Robots-Tag:noindex
X-PUBLISHED-TTL:PT1H
BEGIN:VTIMEZONE
TZID:America/New_York
BEGIN:DAYLIGHT
TZOFFSETFROM:-0500
TZOFFSETTO:-0400
TZNAME:EDT
DTSTART:20240310T070000
END:DAYLIGHT
BEGIN:STANDARD
TZOFFSETFROM:-0400
TZOFFSETTO:-0500
TZNAME:EST
DTSTART:20241103T060000
END:STANDARD
END:VTIMEZONE
BEGIN:VEVENT
DTSTART;TZID=America/New_York:20240723T130000
DTEND;TZID=America/New_York:20240723T170000
DTSTAMP:20260421T174648
CREATED:20240523T041349Z
LAST-MODIFIED:20240523T041349Z
UID:57-1721739600-1721754000@baibydoll.com
SUMMARY:Green Thumb Gathering: Community Gardening Day
DESCRIPTION:Dive into the world of gardening with our Green Thumb Gathering! Whether you’re a seasoned gardener or just getting started\, this community event invites you to learn\, share\, and grow. Participate in workshops on sustainable gardening practices\, plant swaps\, and a community garden project that aims to beautify our neighborhood. It’s a great opportunity to connect with fellow gardening enthusiasts and contribute to a greener\, more sustainable community.
URL:https://baibydoll.com/event/green-thumb-gathering-community-gardening-day/
LOCATION:Harmony Park\, 112 Main St\, Missoula\, Montana\, United States
CATEGORIES:Community
ATTACH;FMTTYPE=image/jpeg:https://baibydoll.com/wp-content/uploads/2024/05/woman-in-green-and-white-floral.jpeg
ORGANIZER;CN="Community Outreach":MAILTO:info@communityoutreach.org
END:VEVENT
END:VCALENDAR